BEGIN:VCALENDAR
VERSION:2.0
PRODID:-//eventon.com NONSGML v1.0//EN
CALSCALE:GREGORIAN
METHOD:PUBLISH
BEGIN:VEVENT
UID:69e643a05b4ef
DTSTAMP:20260420T151752Z
DTSTART:20200214
DTEND:20200215
LOCATION:
SUMMARY:UNFILTERED
DESCRIPTION:UNFILTERED\nhttps://planomasjid.org/events/unfiltered/
URL:https://planomasjid.org/events/unfiltered/
END:VEVENT
END:VCALENDAR