BEGIN:VCALENDAR
VERSION:2.0
PRODID:-//eventon.com NONSGML v1.0//EN
CALSCALE:GREGORIAN
METHOD:PUBLISH
BEGIN:VEVENT
UID:69e4ef15ed53e
DTSTAMP:20260419T150453Z
DTSTART:20200118T003000Z
DTEND:20200118T013000Z
LOCATION:
SUMMARY:Halaqa for Elementary Kids
DESCRIPTION:Halaqa for Elementary Kids\nhttps://planomasjid.org/events/hala
 qa-for-elementary-kids-8/
URL:https://planomasjid.org/events/halaqa-for-elementary-kids-8/
END:VEVENT
END:VCALENDAR