BEGIN:VCALENDAR
VERSION:2.0
PRODID:-//eventon.com NONSGML v1.0//EN
CALSCALE:GREGORIAN
METHOD:PUBLISH
BEGIN:VEVENT
UID:69e5f1a97fe74
DTSTAMP:20260420T092809Z
DTSTART:20191214T030000Z
DTEND:20191214T030000Z
LOCATION:
SUMMARY:Youth Qiyam 2019
DESCRIPTION:Youth Qiyam 2019\nhttps://planomasjid.org/events/youth-qiyam-20
 19/
URL:https://planomasjid.org/events/youth-qiyam-2019/
END:VEVENT
END:VCALENDAR