BEGIN:VCALENDAR
VERSION:2.0
PRODID:-//eventon.com NONSGML v1.0//EN
CALSCALE:GREGORIAN
METHOD:PUBLISH
BEGIN:VEVENT
UID:69e73cd9bea28
DTSTAMP:20260421T090113Z
DTSTART:20191221T020000Z
DTEND:20191221T030000Z
LOCATION:
SUMMARY:Halaqa for Middle School Youth
DESCRIPTION:Halaqa for Middle School Youth\nhttps://planomasjid.org/events/
 halaqa-for-middle-school-youth-4/
URL:https://planomasjid.org/events/halaqa-for-middle-school-youth-4/
END:VEVENT
END:VCALENDAR