BEGIN:VCALENDAR
VERSION:2.0
PRODID:-//eventon.com NONSGML v1.0//EN
CALSCALE:GREGORIAN
METHOD:PUBLISH
BEGIN:VEVENT
UID:69e754376d912
DTSTAMP:20260421T104055Z
DTSTART:20191019T020000Z
DTEND:20191019T030000Z
LOCATION:
SUMMARY:Story of Dzul Qarnaiyn
DESCRIPTION:Story of Dzul Qarnaiyn\nhttps://planomasjid.org/events/story-of
 -dzul-qarnaiyn/
URL:https://planomasjid.org/events/story-of-dzul-qarnaiyn/
END:VEVENT
END:VCALENDAR