BEGIN:VCALENDAR
VERSION:2.0
PRODID:-//eventon.com NONSGML v1.0//EN
CALSCALE:GREGORIAN
METHOD:PUBLISH
BEGIN:VEVENT
UID:69e4dc69564f6
DTSTAMP:20260419T134513Z
DTSTART:20191031T173000Z
DTEND:20191031T183000Z
LOCATION:
SUMMARY:Little Stars Low-Impact Fitness
DESCRIPTION:Little Stars Low-Impact Fitness\nhttps://planomasjid.org/events
 /little-stars-low-impact-fitness/
URL:https://planomasjid.org/events/little-stars-low-impact-fitness/
END:VEVENT
END:VCALENDAR