BEGIN:VCALENDAR
VERSION:2.0
PRODID:-//eventon.com NONSGML v1.0//EN
CALSCALE:GREGORIAN
METHOD:PUBLISH
BEGIN:VEVENT
UID:69e753542cd48
DTSTAMP:20260421T103708Z
DTSTART:20191010T173000Z
DTEND:20191011T045000Z
LOCATION:
SUMMARY:Little Stars Icebreaker
DESCRIPTION:Little Stars Icebreaker\nhttps://planomasjid.org/events/little-
 stars-icebreaker/
URL:https://planomasjid.org/events/little-stars-icebreaker/
END:VEVENT
END:VCALENDAR