BEGIN:VCALENDAR
VERSION:2.0
PRODID:-//eventon.com NONSGML v1.0//EN
CALSCALE:GREGORIAN
METHOD:PUBLISH
BEGIN:VEVENT
UID:69e7557998261
DTSTAMP:20260421T104617Z
DTSTART:20190923T130000Z
DTEND:20190930T190000Z
LOCATION:
SUMMARY:IACC Quranic Education Programs for Academic Year 2019-2020
DESCRIPTION:IACC Quranic Education Programs for Academic Year 2019-2020\nht
 tps://planomasjid.org/events/iacc-quranic-education-programs-for-academic-y
 ear-2019-2020/
URL:https://planomasjid.org/events/iacc-quranic-education-programs-for-academic-year-2019-2020/
END:VEVENT
END:VCALENDAR