BEGIN:VCALENDAR
VERSION:2.0
PRODID:-//eventon.com NONSGML v1.0//EN
CALSCALE:GREGORIAN
METHOD:PUBLISH
BEGIN:VEVENT
UID:69e75512ceb76
DTSTAMP:20260421T104434Z
DTSTART:20190921T120000Z
DTEND:20190921T130000Z
LOCATION:
SUMMARY:Fajr\,  Discussion\,  and Community Breakfast
DESCRIPTION:Fajr\,  Discussion\,  and Community Breakfast\nhttps://planomas
 jid.org/events/fajr-discussion-and-community-breakfast/
URL:https://planomasjid.org/events/fajr-discussion-and-community-breakfast/
END:VEVENT
END:VCALENDAR