BEGIN:VCALENDAR
VERSION:2.0
PRODID:-//eventon.com NONSGML v1.0//EN
CALSCALE:GREGORIAN
METHOD:PUBLISH
BEGIN:VEVENT
UID:69e7554bd35d7
DTSTAMP:20260421T104531Z
DTSTART:20190907T200000Z
DTEND:20190907T223000Z
LOCATION:
SUMMARY:IACC Sunday School Parent Orientation
DESCRIPTION:IACC Sunday School Parent Orientation\nhttps://planomasjid.org/
 events/iacc-sunday-school-parent-orientation-2/
URL:https://planomasjid.org/events/iacc-sunday-school-parent-orientation-2/
END:VEVENT
END:VCALENDAR