BEGIN:VCALENDAR
VERSION:2.0
PRODID:-//eventon.com NONSGML v1.0//EN
CALSCALE:GREGORIAN
METHOD:PUBLISH
BEGIN:VEVENT
UID:69e751d87c9d6
DTSTAMP:20260421T103048Z
DTSTART:20190824T160000Z
DTEND:20190824T180000Z
LOCATION:
SUMMARY:Taqwa Seminary - Arabic Program Open House
DESCRIPTION:Taqwa Seminary - Arabic Program Open House\nhttps://planomasjid
 .org/events/taqwa-seminary-arabic-program-open-house/
URL:https://planomasjid.org/events/taqwa-seminary-arabic-program-open-house/
END:VEVENT
END:VCALENDAR