BEGIN:VCALENDAR
VERSION:2.0
PRODID:-//eventon.com NONSGML v1.0//EN
CALSCALE:GREGORIAN
METHOD:PUBLISH
BEGIN:VEVENT
UID:69e696ac0de3d
DTSTAMP:20260420T211212Z
DTSTART:20190909T033000Z
DTEND:20190908T203000Z
LOCATION:
SUMMARY:IACC Sunday School
DESCRIPTION:IACC Sunday School\nhttps://planomasjid.org/events/iacc-sunday-
 school/
URL:https://planomasjid.org/events/iacc-sunday-school/
END:VEVENT
END:VCALENDAR