BEGIN:VCALENDAR
VERSION:2.0
PRODID:-//eventon.com NONSGML v1.0//EN
CALSCALE:GREGORIAN
METHOD:PUBLISH
BEGIN:VEVENT
UID:69e751c7b06e1
DTSTAMP:20260421T103031Z
DTSTART:20190912T000000Z
DTEND:20190912T023000Z
LOCATION:
SUMMARY:PMP Training
DESCRIPTION:PMP Training\nhttps://planomasjid.org/events/pmp-training/
URL:https://planomasjid.org/events/pmp-training/
END:VEVENT
END:VCALENDAR