BEGIN:VCALENDAR
VERSION:2.0
PRODID:-//eventon.com NONSGML v1.0//EN
CALSCALE:GREGORIAN
METHOD:PUBLISH
BEGIN:VEVENT
UID:69e75368617c1
DTSTAMP:20260421T103728Z
DTSTART:20190722T200000Z
DTEND:20190722T210000Z
LOCATION:
SUMMARY:Art And craft classes
DESCRIPTION:Art And craft classes\nhttps://planomasjid.org/events/art-and-c
 raft-classes/
URL:https://planomasjid.org/events/art-and-craft-classes/
END:VEVENT
END:VCALENDAR