BEGIN:VCALENDAR
VERSION:2.0
PRODID:-//eventon.com NONSGML v1.0//EN
CALSCALE:GREGORIAN
METHOD:PUBLISH
BEGIN:VEVENT
UID:69e4db5ea096f
DTSTAMP:20260419T134046Z
DTSTART:20190517T053000Z
DTEND:20190517T100000Z
LOCATION:
SUMMARY:Girls Lock In
DESCRIPTION:Girls Lock In\nhttps://planomasjid.org/events/girls-lock-in-2/
URL:https://planomasjid.org/events/girls-lock-in-2/
END:VEVENT
END:VCALENDAR