BEGIN:VCALENDAR
VERSION:2.0
PRODID:-//eventon.com NONSGML v1.0//EN
CALSCALE:GREGORIAN
METHOD:PUBLISH
BEGIN:VEVENT
UID:69e73c9ae3c1d
DTSTAMP:20260421T090010Z
DTSTART:20190511T180000Z
DTEND:20190511T190000Z
LOCATION:
SUMMARY:Ramadan Story-Time
DESCRIPTION:Ramadan Story-Time\nhttps://planomasjid.org/events/ramadan-stor
 y-time-3/
URL:https://planomasjid.org/events/ramadan-story-time-3/
END:VEVENT
END:VCALENDAR