BEGIN:VCALENDAR
VERSION:2.0
PRODID:-//eventon.com NONSGML v1.0//EN
CALSCALE:GREGORIAN
METHOD:PUBLISH
BEGIN:VEVENT
UID:69e53a0428c46
DTSTAMP:20260419T202436Z
DTSTART:20190610T153000Z
DTEND:20190610T191500Z
LOCATION:
SUMMARY:IACC Quranic Education - 2019 Summer Programs
DESCRIPTION:IACC Quranic Education - 2019 Summer Programs\nhttps://planomas
 jid.org/events/iacc-quranic-education-2019-summer-programs/
URL:https://planomasjid.org/events/iacc-quranic-education-2019-summer-programs/
END:VEVENT
END:VCALENDAR