BEGIN:VCALENDAR
VERSION:2.0
PRODID:-//eventon.com NONSGML v1.0//EN
CALSCALE:GREGORIAN
METHOD:PUBLISH
BEGIN:VEVENT
UID:69e5f23714191
DTSTAMP:20260420T093031Z
DTSTART:20190505T102000Z
DTEND:20190505T102000Z
LOCATION:
SUMMARY:IACC Peaceful Prayer Childcare During Taraweeh
DESCRIPTION:IACC Peaceful Prayer Childcare During Taraweeh\nhttps://planoma
 sjid.org/events/iacc-peaceful-prayer-childcare-during-taraweeh-2/
URL:https://planomasjid.org/events/iacc-peaceful-prayer-childcare-during-taraweeh-2/
END:VEVENT
END:VCALENDAR