BEGIN:VCALENDAR
VERSION:2.0
PRODID:-//eventon.com NONSGML v1.0//EN
CALSCALE:GREGORIAN
METHOD:PUBLISH
BEGIN:VEVENT
UID:69e503cc63115
DTSTAMP:20260419T163316Z
DTSTART:20190511T060000Z
DTEND:20190511T080000Z
LOCATION:
SUMMARY:Youth Qiyam
DESCRIPTION:Youth Qiyam\nhttps://planomasjid.org/events/youth-qiyam-6/
URL:https://planomasjid.org/events/youth-qiyam-6/
END:VEVENT
END:VCALENDAR