BEGIN:VCALENDAR
VERSION:2.0
PRODID:-//eventon.com NONSGML v1.0//EN
CALSCALE:GREGORIAN
METHOD:PUBLISH
BEGIN:VEVENT
UID:69e752f0997ac
DTSTAMP:20260421T103528Z
DTSTART:20190427T012000Z
DTEND:20190427T004500Z
LOCATION:
SUMMARY:2019 Naazirah Graduation
DESCRIPTION:2019 Naazirah Graduation\nhttps://planomasjid.org/events/2019-n
 aazirah-graduation/
URL:https://planomasjid.org/events/2019-naazirah-graduation/
END:VEVENT
END:VCALENDAR