BEGIN:VCALENDAR
VERSION:2.0
PRODID:-//eventon.com NONSGML v1.0//EN
CALSCALE:GREGORIAN
METHOD:PUBLISH
BEGIN:VEVENT
UID:69e792bf11a59
DTSTAMP:20260421T150743Z
DTSTART:20190406T233000Z
DTEND:20190408T043000Z
LOCATION:
SUMMARY:2019 Volleyball Tournament
DESCRIPTION:2019 Volleyball Tournament\nhttps://planomasjid.org/events/2019
 -volleyball-tournament/
URL:https://planomasjid.org/events/2019-volleyball-tournament/
END:VEVENT
END:VCALENDAR