BEGIN:VCALENDAR
VERSION:2.0
PRODID:-//eventon.com NONSGML v1.0//EN
CALSCALE:GREGORIAN
METHOD:PUBLISH
BEGIN:VEVENT
UID:69e7510bf2db4
DTSTAMP:20260421T102723Z
DTSTART:20190331T210000Z
DTEND:20190401T002500Z
LOCATION:
SUMMARY:Ramadan Story Time
DESCRIPTION:Ramadan Story Time\nhttps://planomasjid.org/events/ramadan-stor
 y-time-2/
URL:https://planomasjid.org/events/ramadan-story-time-2/
END:VEVENT
END:VCALENDAR