BEGIN:VCALENDAR
VERSION:2.0
PRODID:-//eventon.com NONSGML v1.0//EN
CALSCALE:GREGORIAN
METHOD:PUBLISH
BEGIN:VEVENT
UID:69e73ccd0d4f5
DTSTAMP:20260421T090101Z
DTSTART:20190316T115500Z
DTEND:20190317T045000Z
LOCATION:
SUMMARY:Fajr\,  Discussion and Breakfast!
DESCRIPTION:Fajr\,  Discussion and Breakfast!\nhttps://planomasjid.org/even
 ts/fajr-discussion-and-breakfast-3/
URL:https://planomasjid.org/events/fajr-discussion-and-breakfast-3/
END:VEVENT
END:VCALENDAR