BEGIN:VCALENDAR
VERSION:2.0
PRODID:-//eventon.com NONSGML v1.0//EN
CALSCALE:GREGORIAN
METHOD:PUBLISH
BEGIN:VEVENT
UID:69ea347874c59
DTSTAMP:20260423T150216Z
DTSTART:20190311T013000Z
DTEND:20190310T133000Z
LOCATION:
SUMMARY:Family Night at IACC
DESCRIPTION:Family Night at IACC\nhttps://planomasjid.org/events/family-nig
 ht-at-iacc-4/
URL:https://planomasjid.org/events/family-night-at-iacc-4/
END:VEVENT
END:VCALENDAR