BEGIN:VCALENDAR
VERSION:2.0
PRODID:-//eventon.com NONSGML v1.0//EN
CALSCALE:GREGORIAN
METHOD:PUBLISH
BEGIN:VEVENT
UID:69e75353bea2b
DTSTAMP:20260421T103707Z
DTSTART:20190223T010000Z
DTEND:20190223T023000Z
LOCATION:
SUMMARY:Girls Basketball Night
DESCRIPTION:Girls Basketball Night\nhttps://planomasjid.org/events/girls-ba
 sketball-night/
URL:https://planomasjid.org/events/girls-basketball-night/
END:VEVENT
END:VCALENDAR