BEGIN:VCALENDAR
VERSION:2.0
PRODID:-//eventon.com NONSGML v1.0//EN
CALSCALE:GREGORIAN
METHOD:PUBLISH
BEGIN:VEVENT
UID:69e5f154cf54e
DTSTAMP:20260420T092644Z
DTSTART:20190128
DTEND:20190129
LOCATION:
SUMMARY:Federal Workers Food Drive
DESCRIPTION:Federal Workers Food Drive\nhttps://planomasjid.org/events/fede
 ral-workers-food-drive/
URL:https://planomasjid.org/events/federal-workers-food-drive/
END:VEVENT
END:VCALENDAR