BEGIN:VCALENDAR
VERSION:2.0
PRODID:-//eventon.com NONSGML v1.0//EN
CALSCALE:GREGORIAN
METHOD:PUBLISH
BEGIN:VEVENT
UID:69e667c4e4c4b
DTSTAMP:20260420T175204Z
DTSTART:20190223T020000Z
DTEND:20190223T030000Z
LOCATION:
SUMMARY:Jamal و Iman - Haji Noor Deen
DESCRIPTION:Jamal و Iman - Haji Noor Deen\nhttps://planomasjid.org/events/
 jamal-%d9%88-iman-haji-noor-deen/
URL:https://planomasjid.org/events/jamal-%d9%88-iman-haji-noor-deen/
END:VEVENT
END:VCALENDAR