BEGIN:VCALENDAR
VERSION:2.0
PRODID:-//eventon.com NONSGML v1.0//EN
CALSCALE:GREGORIAN
METHOD:PUBLISH
BEGIN:VEVENT
UID:69e75367c0511
DTSTAMP:20260421T103727Z
DTSTART:20190209T230000Z
DTEND:20190210T000000Z
LOCATION:
SUMMARY:Momentum:2019 - IACC Annual Banquet Dinner
DESCRIPTION:\nhttps://planomasjid.org/events/momentum2019/
URL:https://planomasjid.org/events/momentum2019/
END:VEVENT
END:VCALENDAR