BEGIN:VCALENDAR
VERSION:2.0
PRODID:-//eventon.com NONSGML v1.0//EN
CALSCALE:GREGORIAN
METHOD:PUBLISH
BEGIN:VEVENT
UID:69e4eec52b7be
DTSTAMP:20260419T150333Z
DTSTART:20181201T173000Z
DTEND:20181201T203000Z
LOCATION:
SUMMARY:IACC Clinic Flushots
DESCRIPTION:IACC Clinic Flushots\nhttps://planomasjid.org/events/iacc-clini
 c-flushots/
URL:https://planomasjid.org/events/iacc-clinic-flushots/
END:VEVENT
END:VCALENDAR