BEGIN:VCALENDAR
VERSION:2.0
PRODID:-//eventon.com NONSGML v1.0//EN
CALSCALE:GREGORIAN
METHOD:PUBLISH
BEGIN:VEVENT
UID:69eb4a515a1e7
DTSTAMP:20260424T104745Z
DTSTART:20181124T180000Z
DTEND:20181124T200000Z
LOCATION:
SUMMARY:Community Potluck
DESCRIPTION:\nhttps://planomasjid.org/events/iacc-thanks/
URL:https://planomasjid.org/events/iacc-thanks/
END:VEVENT
END:VCALENDAR