BEGIN:VCALENDAR
VERSION:2.0
PRODID:-//eventon.com NONSGML v1.0//EN
CALSCALE:GREGORIAN
METHOD:PUBLISH
BEGIN:VEVENT
UID:69e5f1ef28894
DTSTAMP:20260420T092919Z
DTSTART:20181020T180000Z
DTEND:20181020T210000Z
LOCATION:
SUMMARY:Holistic Life Coaching
DESCRIPTION:Holistic Life Coaching\nhttps://planomasjid.org/events/holistic
 -life-coaching/
URL:https://planomasjid.org/events/holistic-life-coaching/
END:VEVENT
END:VCALENDAR