BEGIN:VCALENDAR
VERSION:2.0
PRODID:-//eventon.com NONSGML v1.0//EN
CALSCALE:GREGORIAN
METHOD:PUBLISH
BEGIN:VEVENT
UID:69e733f4da26e
DTSTAMP:20260421T082316Z
DTSTART:20181031T000000Z
DTEND:20181031T011500Z
LOCATION:
SUMMARY:Innovation Day
DESCRIPTION:Innovation Day\nhttps://planomasjid.org/events/innovation-day/
URL:https://planomasjid.org/events/innovation-day/
END:VEVENT
END:VCALENDAR