BEGIN:VCALENDAR
VERSION:2.0
PRODID:-//eventon.com NONSGML v1.0//EN
CALSCALE:GREGORIAN
METHOD:PUBLISH
BEGIN:VEVENT
UID:69e5f137e26ab
DTSTAMP:20260420T092615Z
DTSTART:20181015T173000Z
DTEND:20181015T160900Z
LOCATION:
SUMMARY:Mom's Lunch
DESCRIPTION:Mom's Lunch\nhttps://planomasjid.org/events/moms-lunch/
URL:https://planomasjid.org/events/moms-lunch/
END:VEVENT
END:VCALENDAR