BEGIN:VCALENDAR
VERSION:2.0
PRODID:-//eventon.com NONSGML v1.0//EN
CALSCALE:GREGORIAN
METHOD:PUBLISH
BEGIN:VEVENT
UID:69e596488ab82
DTSTAMP:20260420T025816Z
DTSTART:20181011T160000Z
DTEND:20181011T173000Z
LOCATION:
SUMMARY:Strengthening Mind\,  Body and Spirit Workshop
DESCRIPTION:Strengthening Mind\,  Body and Spirit Workshop\nhttps://planoma
 sjid.org/events/strengthening-mind-body-and-spirit-workshop/
URL:https://planomasjid.org/events/strengthening-mind-body-and-spirit-workshop/
END:VEVENT
END:VCALENDAR