BEGIN:VCALENDAR
VERSION:2.0
PRODID:-//eventon.com NONSGML v1.0//EN
CALSCALE:GREGORIAN
METHOD:PUBLISH
BEGIN:VEVENT
UID:69e5f15481c6f
DTSTAMP:20260420T092644Z
DTSTART:20180908T220000Z
DTEND:20180909T000000Z
LOCATION:
SUMMARY:Eid al Adha Family - IACC Special Needs Support Group
DESCRIPTION:Eid al Adha Family - IACC Special Needs Support Group\nhttps://
 planomasjid.org/events/eid-al-adha-family-iacc-special-needs-support-group/
URL:https://planomasjid.org/events/eid-al-adha-family-iacc-special-needs-support-group/
END:VEVENT
END:VCALENDAR