BEGIN:VCALENDAR
VERSION:2.0
PRODID:-//eventon.com NONSGML v1.0//EN
CALSCALE:GREGORIAN
METHOD:PUBLISH
BEGIN:VEVENT
UID:69e75708f25c8
DTSTAMP:20260421T105256Z
DTSTART:20180821T153000Z
DTEND:20180822T045000Z
LOCATION:
SUMMARY:Eid Al-Adha 1439 Salah Times and PARKING
DESCRIPTION:Parking IACC Eid parking is available at the Masjid; behind McD
 onald’s; at the Village Creek Shopping Center (only the parking spots mar
 ked with white lines] and at the St. Elizabeth Ann Seton Church located at 
 2700 W. Spring Creek Pkwy. Plano\,  TX Please DO NOT park in front of the[.
 .]\nhttps://planomasjid.org/events/eid-al-adha-1439-salah-times-and-parking
 /
URL:https://planomasjid.org/events/eid-al-adha-1439-salah-times-and-parking/
END:VEVENT
END:VCALENDAR