BEGIN:VCALENDAR
VERSION:2.0
PRODID:-//eventon.com NONSGML v1.0//EN
CALSCALE:GREGORIAN
METHOD:PUBLISH
BEGIN:VEVENT
UID:69e7c754e86c0
DTSTAMP:20260421T185204Z
DTSTART:20260509T210000Z
DTEND:20260510T045900Z
LOCATION:IACC GYM
SUMMARY:Taqwa Seminary Graduation
DESCRIPTION:\nhttps://planomasjid.org/events/taqwa-seminary-graduation-3/
URL:https://planomasjid.org/events/taqwa-seminary-graduation-3/
END:VEVENT
END:VCALENDAR