BEGIN:VCALENDAR
VERSION:2.0
PRODID:-//eventon.com NONSGML v1.0//EN
CALSCALE:GREGORIAN
METHOD:PUBLISH
BEGIN:VEVENT
UID:69e75315d77db
DTSTAMP:20260421T103605Z
DTSTART:20180818T134500Z
DTEND:20180818T150000Z
LOCATION:
SUMMARY:Jeopardy Night
DESCRIPTION:Jeopardy Night\nhttps://planomasjid.org/events/jeopardy-night/
URL:https://planomasjid.org/events/jeopardy-night/
END:VEVENT
END:VCALENDAR