BEGIN:VCALENDAR
VERSION:2.0
PRODID:-//eventon.com NONSGML v1.0//EN
CALSCALE:GREGORIAN
METHOD:PUBLISH
BEGIN:VEVENT
UID:69e7c7ebbec5c
DTSTAMP:20260421T185435Z
DTSTART:20260403T233000Z
DTEND:20260404T020000Z
LOCATION:
SUMMARY:End of Life Care In Islam
DESCRIPTION:\nhttps://planomasjid.org/events/end-of-life-care-in-islam/
URL:https://planomasjid.org/events/end-of-life-care-in-islam/
END:VEVENT
END:VCALENDAR