BEGIN:VCALENDAR
VERSION:2.0
PRODID:-//eventon.com NONSGML v1.0//EN
CALSCALE:GREGORIAN
METHOD:PUBLISH
BEGIN:VEVENT
UID:69e75708a4dfc
DTSTAMP:20260421T105256Z
DTSTART:20260307T033000Z
DTEND:20260307T055900Z
LOCATION:
SUMMARY:Taleem- Tadabbur of The Quran
DESCRIPTION:\nhttps://planomasjid.org/events/taleem-tadabbur-of-the-quran/
URL:https://planomasjid.org/events/taleem-tadabbur-of-the-quran/
END:VEVENT
END:VCALENDAR