BEGIN:VCALENDAR
VERSION:2.0
PRODID:-//eventon.com NONSGML v1.0//EN
CALSCALE:GREGORIAN
METHOD:PUBLISH
BEGIN:VEVENT
UID:69e7414f079d9
DTSTAMP:20260421T092015Z
DTSTART:20260301T003000Z
DTEND:20260301T055900Z
LOCATION:
SUMMARY:IACC Community Iftar
DESCRIPTION:\nhttps://planomasjid.org/events/iacc-community-iftar/
URL:https://planomasjid.org/events/iacc-community-iftar/
END:VEVENT
END:VCALENDAR