BEGIN:VCALENDAR
VERSION:2.0
PRODID:-//eventon.com NONSGML v1.0//EN
CALSCALE:GREGORIAN
METHOD:PUBLISH
BEGIN:VEVENT
UID:69e5f25533e55
DTSTAMP:20260420T093101Z
DTSTART:20260228T203000Z
DTEND:20260228T220000Z
LOCATION:IACC GYM
SUMMARY:Candidate Connect
DESCRIPTION:\nhttps://planomasjid.org/events/candidate-connect/
URL:https://planomasjid.org/events/candidate-connect/
END:VEVENT
END:VCALENDAR