BEGIN:VCALENDAR
VERSION:2.0
PRODID:-//eventon.com NONSGML v1.0//EN
CALSCALE:GREGORIAN
METHOD:PUBLISH
BEGIN:VEVENT
UID:69e75580e43c9
DTSTAMP:20260421T104624Z
DTSTART:20260307T160000Z
DTEND:20260307T220000Z
LOCATION:
SUMMARY:Ramadan Grand Bazaar at Plano Masjid
DESCRIPTION:\nhttps://planomasjid.org/events/ramadan-grand-bazaar-at-plano-
 masjid/
URL:https://planomasjid.org/events/ramadan-grand-bazaar-at-plano-masjid/
END:VEVENT
END:VCALENDAR