BEGIN:VCALENDAR
VERSION:2.0
PRODID:-//eventon.com NONSGML v1.0//EN
CALSCALE:GREGORIAN
METHOD:PUBLISH
BEGIN:VEVENT
UID:69e7554b890c8
DTSTAMP:20260421T104531Z
DTSTART:20260307T170000Z
DTEND:20260307T190000Z
LOCATION:
SUMMARY:Taqmeele E Quran Dua
DESCRIPTION:\nhttps://planomasjid.org/events/taqmeele-e-quran-dua/
URL:https://planomasjid.org/events/taqmeele-e-quran-dua/
END:VEVENT
END:VCALENDAR