BEGIN:VCALENDAR
VERSION:2.0
PRODID:-//eventon.com NONSGML v1.0//EN
CALSCALE:GREGORIAN
METHOD:PUBLISH
BEGIN:VEVENT
UID:69e73d2784a81
DTSTAMP:20260421T090231Z
DTSTART:20260318T200000Z
DTEND:20260318T230000Z
LOCATION:
SUMMARY:Henna Event
DESCRIPTION:\nhttps://planomasjid.org/events/henna-event/
URL:https://planomasjid.org/events/henna-event/
END:VEVENT
END:VCALENDAR