BEGIN:VCALENDAR
VERSION:2.0
PRODID:-//eventon.com NONSGML v1.0//EN
CALSCALE:GREGORIAN
METHOD:PUBLISH
BEGIN:VEVENT
UID:69e5f26c5a523
DTSTAMP:20260420T093124Z
DTSTART:20260316T193000Z
DTEND:20260316T210000Z
LOCATION:
SUMMARY:Ramadan Art Competition
DESCRIPTION:\nhttps://planomasjid.org/events/ramadan-art-competition/
URL:https://planomasjid.org/events/ramadan-art-competition/
END:VEVENT
END:VCALENDAR