BEGIN:VCALENDAR
VERSION:2.0
PRODID:-//eventon.com NONSGML v1.0//EN
CALSCALE:GREGORIAN
METHOD:PUBLISH
BEGIN:VEVENT
UID:69e73d48a52d5
DTSTAMP:20260421T090304Z
DTSTART:20260221T203000Z
DTEND:20260221T213000Z
LOCATION:
SUMMARY:Quran Recitation Circle with Tajweed
DESCRIPTION:\nhttps://planomasjid.org/events/quran-recitation-circle-with-t
 ajweed/
URL:https://planomasjid.org/events/quran-recitation-circle-with-tajweed/
END:VEVENT
END:VCALENDAR