BEGIN:VCALENDAR
VERSION:2.0
PRODID:-//eventon.com NONSGML v1.0//EN
CALSCALE:GREGORIAN
METHOD:PUBLISH
BEGIN:VEVENT
UID:69e5f255ab996
DTSTAMP:20260420T093101Z
DTSTART:20260218T010000Z
DTEND:20260218T055900Z
LOCATION:
SUMMARY:Nightly Ramadan Reflections
DESCRIPTION:\nhttps://planomasjid.org/events/nightly-ramadan-reflections/
URL:https://planomasjid.org/events/nightly-ramadan-reflections/
END:VEVENT
END:VCALENDAR