BEGIN:VCALENDAR
VERSION:2.0
PRODID:-//eventon.com NONSGML v1.0//EN
CALSCALE:GREGORIAN
METHOD:PUBLISH
BEGIN:VEVENT
UID:69e73c8ed589e
DTSTAMP:20260421T085958Z
DTSTART:20260217T230000Z
DTEND:20260218T055900Z
LOCATION:
SUMMARY:Mens Quran Halaqah and Reflections
DESCRIPTION:\nhttps://planomasjid.org/events/mens-quran-halaqah-and-reflect
 ions/
URL:https://planomasjid.org/events/mens-quran-halaqah-and-reflections/
END:VEVENT
END:VCALENDAR