BEGIN:VCALENDAR
VERSION:2.0
PRODID:-//eventon.com NONSGML v1.0//EN
CALSCALE:GREGORIAN
METHOD:PUBLISH
BEGIN:VEVENT
UID:69e606cf4604e
DTSTAMP:20260420T105823Z
DTSTART:20260214T022500Z
DTEND:20260214T055900Z
LOCATION:
SUMMARY:Ramadan Action Plan- Purpose and Intention
DESCRIPTION:\nhttps://planomasjid.org/events/ramadan-action-plan-purpose-an
 d-intention/
URL:https://planomasjid.org/events/ramadan-action-plan-purpose-and-intention/
END:VEVENT
END:VCALENDAR